BEGIN:VCALENDAR
VERSION:2.0
CALSCALE:GREGORIAN
BEGIN:VEVENT
DTSTART:20250325T000000
DTEND:20250326T000000
LOCATION:Location
DTSTAMP:20260422T161928
SUMMARY:Health Tech Hub Styria – Game changers in HealthTech
URL;VALUE=URI:https://www.bnn.at/events/health-tech-hub-styria-game-changers-in-healthtech/
DESCRIPTION:
UID:20260422T161928-20250325T000000-20250326T000000
END:VEVENT
END:VCALENDAR