BEGIN:VCALENDAR
VERSION:2.0
CALSCALE:GREGORIAN
BEGIN:VEVENT
DTSTART:20250625T000000
DTEND:20250627T000000
LOCATION:Location
DTSTAMP:20260423T080028
SUMMARY:Nanotech France 2025
URL;VALUE=URI:https://www.bnn.at/events/nanotech-france-2025/
DESCRIPTION:
UID:20260423T080028-20250625T000000-20250627T000000
END:VEVENT
END:VCALENDAR